BEGIN:VCALENDAR
VERSION:2.0
PRODID:-//ZPM-MB.si - ECPv4.9.10//NONSGML v1.0//EN
CALSCALE:GREGORIAN
METHOD:PUBLISH
X-WR-CALNAME:ZPM-MB.si
X-ORIGINAL-URL:https://zpm-mb.si
X-WR-CALDESC:Events for ZPM-MB.si
BEGIN:VTIMEZONE
TZID:UTC
BEGIN:STANDARD
TZOFFSETFROM:+0000
TZOFFSETTO:+0000
TZNAME:UTC
DTSTART:20200101T000000
END:STANDARD
END:VTIMEZONE
BEGIN:VEVENT
DTSTART;TZID=UTC:20201005T100000
DTEND;TZID=UTC:20201005T120000
DTSTAMP:20260424T084030
CREATED:20200930T091411Z
LAST-MODIFIED:20200930T091411Z
UID:39803-1601892000-1601899200@zpm-mb.si
SUMMARY:Bralni maraton
DESCRIPTION:Začetek nove sezone branja za Prežihovo bralno značko.\nV okviru TEDNA OTROKA 2020.\n
URL:https://zpm-mb.si/dogodek/bralni-maraton-3/
LOCATION:Glavni trg Maribor\, Glavni trg 1\, Maribor\, Slovenija
ATTACH;FMTTYPE=image/jpeg:https://zpm-mb.si/wp-content/uploads/2015/09/logo-BZ-e1442486305279.jpg
END:VEVENT
END:VCALENDAR