BEGIN:VCALENDAR
VERSION:2.0
PRODID:-//ZPM-MB.si - ECPv4.9.10//NONSGML v1.0//EN
CALSCALE:GREGORIAN
METHOD:PUBLISH
X-WR-CALNAME:ZPM-MB.si
X-ORIGINAL-URL:https://zpm-mb.si
X-WR-CALDESC:Events for ZPM-MB.si
BEGIN:VTIMEZONE
TZID:UTC
BEGIN:STANDARD
TZOFFSETFROM:+0000
TZOFFSETTO:+0000
TZNAME:UTC
DTSTART:20210101T000000
END:STANDARD
END:VTIMEZONE
BEGIN:VEVENT
DTSTART;TZID=UTC:20210325T083000
DTEND;TZID=UTC:20210325T120000
DTSTAMP:20260420T064118
CREATED:20210324T130216Z
LAST-MODIFIED:20210324T130523Z
UID:41832-1616661000-1616673600@zpm-mb.si
SUMMARY:31. regijski Otroški parlament
DESCRIPTION:
URL:https://zpm-mb.si/dogodek/31-regijski-otroski-parlament/
ATTACH;FMTTYPE=image/png:https://zpm-mb.si/wp-content/uploads/2018/02/logo_otroski_parlamenti_thumb-150x146.png
END:VEVENT
END:VCALENDAR